BEGIN:VCALENDAR
PRODID:-//hacksw/handcal//NONSGML v1.0//EN
VERSION:2.0
METHOD:PUBLISH
BEGIN:VEVENT
DTSTART:20160927T220000Z
DTEND:20160928T000000Z
LOCATION:Armando's Restaurant, 47 Stony Hill Road, Bethel, CT 06801  
UID:1369020160927T220000ZFor Tax Purposes Where Do I Want to Live and Why?
DTSTAMP:20260421T081014Z
DESCRIPTION:
SUMMARY:For Tax Purposes Where Do I Want to Live and Why? - Western Connecticut Estate &amp; Tax Planning Council, Inc. 
PRIORITY:3
BEGIN:VALARM
TRIGGER:PT18H
ACTION:DISPLAY
DESCRIPTION:Reminder
END:VALARM
END:VEVENT
END:VCALENDAR