BEGIN:VCALENDAR
PRODID:-//hacksw/handcal//NONSGML v1.0//EN
VERSION:2.0
METHOD:PUBLISH
BEGIN:VEVENT
DTSTART:20211116T230000Z
DTEND:20211117T010000Z
LOCATION:Armando's Restaurant, Stony Hill, Bethel, CT
UID:2180220211116T230000ZDivorce in Connecticut - What Estate and Tax Planners Need to Know
DTSTAMP:20260421T093622Z
DESCRIPTION:
SUMMARY:Divorce in Connecticut - What Estate and Tax Planners Need to Know - Western Connecticut Estate &amp; Tax Planning Council, Inc. 
PRIORITY:3
BEGIN:VALARM
TRIGGER:PT18H
ACTION:DISPLAY
DESCRIPTION:Reminder
END:VALARM
END:VEVENT
END:VCALENDAR